BEGIN:VCALENDAR
VERSION:2.0
PRODID:-//Tukios.com/
BEGIN:VEVENT
UID:5892b103-cdb9-4bc2-85af-6dc4a4b2ce0f@www.gatecityfunerals.com
DTSTAMP:20260420T223018Z
DTSTART:20260422T180000Z
DTEND:20260422T190000Z
SUMMARY:Graveside Service
DESCRIPTION:
URL:https://www.gatecityfunerals.com/obituaries/mary-sluss
LOCATION:Ben Sluss Memorial Cemetery Twin Springs Road  Dungannon VA 
	24245
GEO:36.8242168;-82.4643112
END:VEVENT
END:VCALENDAR