BEGIN:VCALENDAR
VERSION:2.0
PRODID:-//Tukios.com/
BEGIN:VEVENT
UID:b8d06a1a-464e-451f-b866-c8a35f76bac8@www.gatecityfunerals.com
DTSTAMP:20260420T223324Z
DTSTART:20260421T230000Z
DTEND:20260422T000000Z
SUMMARY:Funeral Service
DESCRIPTION:
URL:https://www.gatecityfunerals.com/obituaries/mary-sluss
LOCATION:Gene Falin Memorial Chapel 136 Beech St  Gate City VA 24251
GEO:36.63987;-82.5714553
END:VEVENT
END:VCALENDAR