BEGIN:VCALENDAR
VERSION:2.0
PRODID:-//Tukios.com/
BEGIN:VEVENT
UID:1a5fdaf2-2175-4645-a5a3-b60bd0d605d0@www.gatecityfunerals.com
DTSTAMP:20260420T223152Z
DTSTART:20260421T210000Z
DTEND:20260421T230000Z
SUMMARY:Visitation
DESCRIPTION:
URL:https://www.gatecityfunerals.com/obituaries/mary-sluss
LOCATION:Gate City Funeral Home 136 Beech St  Gate City VA 24251
GEO:36.639878;-82.5714409
END:VEVENT
END:VCALENDAR